BEGIN:VCALENDAR
VERSION:2.0
PRODID:icalendar-ruby
CALSCALE:GREGORIAN
METHOD:PUBLISH
BEGIN:VEVENT
DTSTAMP:20260424T132900Z
UID:114-3394466@rockportumc.org
DTSTART:20260505T230000Z
DTEND:20260506T010000Z
CLASS:PUBLIC
CREATED:20260423T122856
DESCRIPTION:
LAST-MODIFIED:20260423T122856
LOCATION:Church
SUMMARY:Prayer Shawl Ministry
URL;VALUE=URI:https://www.rockportumc.org/events/prayer-shawl-ministry--113
 /2026-05-05
ATTACH;FILENAME=shawl_1889c.jpg;FMTTYPE=image/jpeg:https://dq5pwpg1q8ru0.cl
 oudfront.net/2021/09/03/05/24/55/003381b0-5818-46f8-a98f-28e41ff7d163/shaw
 l_1889c.jpg
END:VEVENT
END:VCALENDAR
