BEGIN:VCALENDAR
VERSION:2.0
PRODID:icalendar-ruby
CALSCALE:GREGORIAN
METHOD:PUBLISH
BEGIN:VEVENT
DTSTAMP:20260424T134659Z
UID:128-3394413@rockportumc.org
DTSTART:20260518T230000Z
DTEND:20260519T000000Z
CLASS:PUBLIC
CREATED:20260423T102547
DESCRIPTION:
LAST-MODIFIED:20260423T102547
LOCATION:Zoom
SUMMARY:Finance Meeting
URL;VALUE=URI:https://www.rockportumc.org/events/finance-meeting--128/2026-
 05-18
ATTACH;FILENAME=audit-3167425_1920.jpg;FMTTYPE=image/jpeg:https://dq5pwpg1q
 8ru0.cloudfront.net/2021/09/23/08/39/10/eb1c0b2c-25e0-4714-b05b-963d7922d2
 ff/audit-3167425_1920.jpg
END:VEVENT
END:VCALENDAR
