BEGIN:VCALENDAR
VERSION:2.0
PRODID:icalendar-ruby
CALSCALE:GREGORIAN
METHOD:PUBLISH
BEGIN:VEVENT
DTSTAMP:20260424T122802Z
UID:100-3402941@rockportumc.org
DTSTART:20260906T123000Z
DTEND:20260906T130000Z
CLASS:PUBLIC
CREATED:20260424T065332
DESCRIPTION:
LAST-MODIFIED:20260424T065332
LOCATION:Indoor Chapel
SUMMARY:Early Morning Service
URL;VALUE=URI:https://www.rockportumc.org/events/early-morning-service--100
 /2026-09-06
ATTACH;FILENAME=EMS LOGO 2023.jpeg;FMTTYPE=image/jpeg:https://dq5pwpg1q8ru0
 .cloudfront.net/2023/02/03/05/34/27/34434e74-76f6-4e02-9d23-abb78ec7cedc/E
 MS%20LOGO%202023.jpeg
END:VEVENT
END:VCALENDAR
